Workbook

Sheet （別紙9）健保等級証明書
A1: 健保等級証明書
F3: 提出日： | K3: 年 | M3: 月 | O3: 日
E5: 対象期間： | J5: 年 | L5: 月 | M5: ～ | O5: 月
A6: 従事者氏名 | B6: 健保等級 | C6: 賞与の 支給回数（年） | D6: 人件費単価 | E6: 備考
D7: =VLOOKUP(B7,【R8FY】労務費単価!B9:H58,IF(C7=0,6,7),FALSE) -> #N/A
D8: =VLOOKUP(B8,【R8FY】労務費単価!B10:H59,IF(C8=0,6,7),FALSE) -> #N/A
D9: =VLOOKUP(B9,【R8FY】労務費単価!B11:H60,IF(C9=0,6,7),FALSE) -> #N/A
D10: =VLOOKUP(B10,【R8FY】労務費単価!B12:H61,IF(C10=0,6,7),FALSE) -> #N/A
A12: ●賞与の支給回数は１年間で支給される回数を入力してください。
A13: ●健保等級と賞与の支給回数は単位なしで数値のみ入力してください。
A14: ●本様式は健保等級適用者（国民健康保険適用者を除く）のみ使用してください。
A15: ただし、役員については健保等級を有している場合でも『給与証明書』を使用してください。
A19: 2026年度事業従事者に係る健保等級について、上記のとおり証明します。
A20: 名称（組合名）
A21: 証明者氏名（自署） ※事務局責任者の自署

Sheet 記入例（別紙9）健保等級証明書
A1: 健保等級証明書
F3: 提出日： | I3: 2027 | K3: 年 | L3: 2 | M3: 月 | N3: 19 | O3: 日
E5: 対象期間： | H5: 2026 | J5: 年 | K5: 10 | L5: 月 | M5: ～ | N5: 1 | O5: 月
A6: 従事者氏名 | B6: 健保等級 | C6: 賞与の 支給回数（年） | D6: 人件費単価 | E6: 備考
A7: 環境 花子 | B7: 15 | C7: 2 | D7: =VLOOKUP(B7,【R8FY】労務費単価!B9:H58,IF(C7=0,6,7),FALSE) -> 1510 | E7: 対象期間：2026年10月
A8: 環境 花子 | B8: 16 | C8: 2 | D8: =VLOOKUP(B8,【R8FY】労務費単価!B10:H59,IF(C8=0,6,7),FALSE) -> 1590 | E8: 対象期間：2026年11月～1月
D9: =VLOOKUP(B9,【R8FY】労務費単価!B11:H60,IF(C9=0,6,7),FALSE) -> #N/A
D10: =VLOOKUP(B10,【R8FY】労務費単価!B12:H61,IF(C10=0,6,7),FALSE) -> #N/A
A12: ●賞与の支給回数は１年間で支給される回数を入力してください。
A13: ●健保等級と賞与の支給回数は単位なしで数値のみ入力してください。
A14: ●本様式は健保等級適用者（国民健康保険適用者を除く）のみ使用してください。
A15: ただし、役員については健保等級を有している場合でも『給与証明書』を使用してください。
A19: 2026年度事業従事者に係る健保等級について、上記のとおり証明します。
A21: 名称（組合名） | B21: 全国石油商業組合
A22: 証明者氏名（自署） ※事務局責任者の自署 | B22: 全石 太郎

Sheet 【R8FY】労務費単価
G1: 賞与分加算係数 | I1: 総実労働時間
G2: =[1]【R7FY】労務費単価の考え方!H57 -> 1.35 | H2: 時間 | I2: =[1]【R7FY】労務費単価の考え方!H36 -> 162.2
L3: 別 表
B4: 等級単価一覧表 令和８年度適用
B6: 健保等級適用者 | G6: 労務費単価(円／時間) | I6: 健保等級適用者以外 （年俸制・月給制） | L6: 労務費単価 (円／時間）
B7: 等 級 | C7: 報酬月額 | D7: 報酬月額 | G7: Ａ．賞与なし、年４回以上 | H7: Ｂ．賞与１回～３回 | I7: 月給範囲額
D8: 以上 ～ 未満 | I8: 以上 ～ 未満
B9: 1 | C9: 58000 | E9: ～ | F9: 63000 | G9: 360 | H9: =ROUNDDOWN(C9*$G$2/$I$2,-1) -> 480 | J9: ～ | K9: =F9*G2 -> 85050 | L9: =ROUNDDOWN(C9*$G$2/$I$2,-1) -> 480
B10: 2 | C10: 68000 | D10: 63000 | E10: ～ | F10: 73000 | G10: 420 | H10: 570 | I10: =D10*G2 -> 85050 | J10: ～ | K10: =F10*G2 -> 98550 | L10: 570
B11: 3 | C11: 78000 | D11: 73000 | E11: ～ | F11: 83000 | G11: 480 | H11: 650 | I11: =D11*G2 -> 98550 | J11: ～ | K11: =F11*G2 -> 112050 | L11: 650
B12: 4 | C12: 88000 | D12: 83000 | E12: ～ | F12: 93000 | G12: =ROUNDDOWN(C12/$I$2,-1) -> 540 | H12: 740 | I12: =D12*G2 -> 112050 | J12: ～ | K12: =F12*G2 -> 125550 | L12: 740
B13: 5 | C13: 98000 | D13: 93000 | E13: ～ | F13: 101000 | G13: 610 | H13: 820 | I13: =D13*G2 -> 125550 | J13: ～ | K13: =F13*G2 -> 136350 | L13: 820
B14: 6 | C14: 104000 | D14: 101000 | E14: ～ | F14: 107000 | G14: =ROUNDDOWN(C14/$I$2,-1) -> 640 | H14: 870 | I14: =D14*G2 -> 136350 | J14: ～ | K14: =F14*G2 -> 144450 | L14: 870
B15: 7 | C15: 110000 | D15: 107000 | E15: ～ | F15: 114000 | G15: 680 | H15: 920 | I15: =D15*G2 -> 144450 | J15: ～ | K15: =F15*G2 -> 153900 | L15: 920
B16: 8 | C16: 118000 | D16: 114000 | E16: ～ | F16: 122000 | G16: 730 | H16: 990 | I16: =D16*G2 -> 153900 | J16: ～ | K16: =F16*G2 -> 164700 | L16: 990
B17: 9 | C17: 126000 | D17: 122000 | E17: ～ | F17: 130000 | G17: 780 | H17: 1050 | I17: =D17*G2 -> 164700 | J17: ～ | K17: =F17*G2 -> 175500 | L17: 1050
B18: 10 | C18: 134000 | D18: 130000 | E18: ～ | F18: 138000 | G18: 830 | H18: 1120 | I18: =D18*G2 -> 175500 | J18: ～ | K18: =F18*G2 -> 186300 | L18: 1120
B19: 11 | C19: 142000 | D19: 138000 | E19: ～ | F19: 146000 | G19: 880 | H19: 1190 | I19: =D19*G2 -> 186300 | J19: ～ | K19: =F19*G2 -> 197100 | L19: 1190
B20: 12 | C20: 150000 | D20: 146000 | E20: ～ | F20: 155000 | G20: 930 | H20: 1260 | I20: =D20*G2 -> 197100 | J20: ～ | K20: =F20*G2 -> 209250 | L20: 1260
B21: 13 | C21: 160000 | D21: 155000 | E21: ～ | F21: 165000 | G21: 990 | H21: 1340 | I21: =D21*G2 -> 209250 | J21: ～ | K21: =F21*G2 -> 222750 | L21: 1340
B22: 14 | C22: 170000 | D22: 165000 | E22: ～ | F22: 175000 | G22: 1050 | H22: 1420 | I22: =D22*G2 -> 222750 | J22: ～ | K22: =F22*G2 -> 236250 | L22: 1420
B23: 15 | C23: 180000 | D23: 175000 | E23: ～ | F23: 185000 | G23: 1120 | H23: 1510 | I23: =D23*G2 -> 236250 | J23: ～ | K23: =F23*G2 -> 249750 | L23: 1510
B24: 16 | C24: 190000 | D24: 185000 | E24: ～ | F24: 195000 | G24: 1180 | H24: 1590 | I24: =D24*G2 -> 249750 | J24: ～ | K24: =F24*G2 -> 263250 | L24: 1590
B25: 17 | C25: 200000 | D25: 195000 | E25: ～ | F25: 210000 | G25: 1240 | H25: 1680 | I25: =D25*G2 -> 263250 | J25: ～ | K25: =F25*G2 -> 283500 | L25: 1680
B26: 18 | C26: 220000 | D26: 210000 | E26: ～ | F26: 230000 | G26: 1370 | H26: 1850 | I26: =D26*G2 -> 283500 | J26: ～ | K26: =F26*G2 -> 310500 | L26: 1850
B27: 19 | C27: 240000 | D27: 230000 | E27: ～ | F27: 250000 | G27: 1490 | H27: 2010 | I27: =D27*G2 -> 310500 | J27: ～ | K27: =F27*G2 -> 337500 | L27: 2010
B28: 20 | C28: 260000 | D28: 250000 | E28: ～ | F28: 270000 | G28: 1610 | H28: 2180 | I28: =D28*G2 -> 337500 | J28: ～ | K28: =F28*G2 -> 364500 | L28: 2180
B29: 21 | C29: 280000 | D29: 270000 | E29: ～ | F29: 290000 | G29: 1740 | H29: 2350 | I29: =D29*G2 -> 364500 | J29: ～ | K29: =F29*G2 -> 391500 | L29: 2350
B30: 22 | C30: 300000 | D30: 290000 | E30: ～ | F30: 310000 | G30: 1860 | H30: 2520 | I30: =D30*G2 -> 391500 | J30: ～ | K30: =F30*G2 -> 418500 | L30: 2520
B31: 23 | C31: 320000 | D31: 310000 | E31: ～ | F31: 330000 | G31: 1990 | H31: 2690 | I31: =D31*G2 -> 418500 | J31: ～ | K31: =F31*G2 -> 445500 | L31: 2690
B32: 24 | C32: 340000 | D32: 330000 | E32: ～ | F32: 350000 | G32: 2110 | H32: 2850 | I32: =D32*G2 -> 445500 | J32: ～ | K32: =F32*G2 -> 472500 | L32: 2850
B33: 25 | C33: 360000 | D33: 350000 | E33: ～ | F33: 370000 | G33: 2240 | H33: 3020 | I33: =D33*G2 -> 472500 | J33: ～ | K33: =F33*G2 -> 499500 | L33: 3020
B34: 26 | C34: 380000 | D34: 370000 | E34: ～ | F34: 395000 | G34: 2360 | H34: 3190 | I34: =D34*G2 -> 499500 | J34: ～ | K34: =F34*G2 -> 533250 | L34: 3190
B35: 27 | C35: 410000 | D35: 395000 | E35: ～ | F35: 425000 | G35: 2550 | H35: 3440 | I35: =D35*G2 -> 533250 | J35: ～ | K35: =F35*G2 -> 573750 | L35: 3440
B36: 28 | C36: 440000 | D36: 425000 | E36: ～ | F36: 455000 | G36: 2740 | H36: 3700 | I36: =D36*G2 -> 573750 | J36: ～ | K36: =F36*G2 -> 614250 | L36: 3700
B37: 29 | C37: 470000 | D37: 455000 | E37: ～ | F37: 485000 | G37: 2920 | H37: 3950 | I37: =D37*G2 -> 614250 | J37: ～ | K37: =F37*G2 -> 654750 | L37: 3950
B38: 30 | C38: 500000 | D38: 485000 | E38: ～ | F38: 515000 | G38: 3110 | H38: 4200 | I38: =D38*G2 -> 654750 | J38: ～ | K38: =F38*G2 -> 695250 | L38: 4200
B39: 31 | C39: 530000 | D39: 515000 | E39: ～ | F39: 545000 | G39: 3300 | H39: 4450 | I39: =D39*G2 -> 695250 | J39: ～ | K39: =F39*G2 -> 735750 | L39: 4450
B40: 32 | C40: 560000 | D40: 545000 | E40: ～ | F40: 575000 | G40: 3480 | H40: 4710 | I40: =D40*G2 -> 735750 | J40: ～ | K40: =F40*G2 -> 776250 | L40: 4710
B41: 33 | C41: 590000 | D41: 575000 | E41: ～ | F41: 605000 | G41: 3670 | H41: 4960 | I41: =D41*G2 -> 776250 | J41: ～ | K41: =F41*G2 -> 816750 | L41: 4960
B42: 34 | C42: 620000 | D42: 605000 | E42: ～ | F42: 635000 | G42: 3860 | H42: 5210 | I42: =D42*G2 -> 816750 | J42: ～ | K42: =F42*G2 -> 857250 | L42: 5210
B43: 35 | C43: 650000 | D43: 635000 | E43: ～ | F43: 665000 | G43: 4040 | H43: 5460 | I43: =D43*G2 -> 857250 | J43: ～ | K43: =F43*G2 -> 897750 | L43: 5460
B44: 36 | C44: 680000 | D44: 665000 | E44: ～ | F44: 695000 | G44: 4230 | H44: 5710 | I44: =D44*G2 -> 897750 | J44: ～ | K44: =F44*G2 -> 938250 | L44: 5710
B45: 37 | C45: 710000 | D45: 695000 | E45: ～ | F45: 730000 | G45: 4420 | H45: 5970 | I45: =D45*G2 -> 938250 | J45: ～ | K45: =F45*G2 -> 985500 | L45: 5970
B46: 38 | C46: 750000 | D46: 730000 | E46: ～ | F46: 770000 | G46: 4670 | H46: 6300 | I46: =D46*G2 -> 985500 | J46: ～ | K46: =F46*G2 -> 1039500 | L46: 6300
B47: 39 | C47: 790000 | D47: 770000 | E47: ～ | F47: 810000 | G47: 4920 | H47: 6640 | I47: =D47*G2 -> 1039500 | J47: ～ | K47: =F47*G2 -> 1093500 | L47: 6640
B48: 40 | C48: 830000 | D48: 810000 | E48: ～ | F48: 855000 | G48: 5170 | H48: 6980 | I48: =D48*G2 -> 1093500 | J48: ～ | K48: =F48*G2 -> 1154250 | L48: 6980
B49: 41 | C49: 880000 | D49: 855000 | E49: ～ | F49: 905000 | G49: 5480 | H49: 7400 | I49: =D49*G2 -> 1154250 | J49: ～ | K49: =F49*G2 -> 1221750 | L49: 7400
B50: 42 | C50: 930000 | D50: 905000 | E50: ～ | F50: 955000 | G50: 5790 | H50: 7820 | I50: =D50*G2 -> 1221750 | J50: ～ | K50: =F50*G2 -> 1289250 | L50: 7820
B51: 43 | C51: 980000 | D51: 955000 | E51: ～ | F51: 1005000 | G51: 6100 | H51: 8240 | I51: =D51*G2 -> 1289250 | J51: ～ | K51: =F51*G2 -> 1356750 | L51: 8240
B52: 44 | C52: 1030000 | D52: 1005000 | E52: ～ | F52: 1055000 | G52: 6410 | H52: 8660 | I52: =D52*G2 -> 1356750 | J52: ～ | K52: =F52*G2 -> 1424250 | L52: 8660
B53: 45 | C53: 1090000 | D53: 1055000 | E53: ～ | F53: 1115000 | G53: 6790 | H53: 9160 | I53: =D53*G2 -> 1424250 | J53: ～ | K53: =F53*G2 -> 1505250 | L53: 9160
B54: 46 | C54: 1150000 | D54: 1115000 | E54: ～ | F54: 1175000 | G54: 7160 | H54: 9670 | I54: =D54*G2 -> 1505250 | J54: ～ | K54: =F54*G2 -> 1586250 | L54: 9670
B55: 47 | C55: 1210000 | D55: 1175000 | E55: ～ | F55: 1235000 | G55: 7530 | H55: 10170 | I55: =D55*G2 -> 1586250 | J55: ～ | K55: =F55*G2 -> 1667250 | L55: 10170
B56: 48 | C56: 1270000 | D56: 1235000 | E56: ～ | F56: 1295000 | G56: 7910 | H56: 10680 | I56: =D56*G2 -> 1667250 | J56: ～ | K56: =F56*G2 -> 1748250 | L56: 10680
B57: 49 | C57: 1330000 | D57: 1295000 | E57: ～ | F57: 1355000 | G57: 8280 | H57: 11180 | I57: =D57*G2 -> 1748250 | J57: ～ | K57: =F57*G2 -> 1829250 | L57: 11180
B58: 50 | C58: 1390000 | D58: 1355000 | E58: ～ | G58: 8660 | H58: 11690 | I58: =D58*G2 -> 1829250 | J58: ～ | L58: 11690
